BEGIN:VCALENDAR
PRODID:-//github.com/rianjs/ical.net//NONSGML ical.net 4.0//EN
VERSION:2.0
BEGIN:VTIMEZONE
TZID:Central Standard Time
X-LIC-LOCATION:America/Chicago
BEGIN:STANDARD
DTSTART:20241103T020000
RRULE:FREQ=YEARLY;BYDAY=1SU;BYMONTH=11
TZNAME:CST
TZOFFSETFROM:-0500
TZOFFSETTO:-0600
END:STANDARD
BEGIN:DAYLIGHT
DTSTART:20250309T020000
RRULE:FREQ=YEARLY;BYDAY=2SU;BYMONTH=3
TZNAME:CDT
TZOFFSETFROM:-0600
TZOFFSETTO:-0500
END:DAYLIGHT
END:VTIMEZONE
BEGIN:VEVENT
DTEND;TZID=Central Standard Time:20260501T133000
DTSTAMP:20260421T081745Z
DTSTART;TZID=Central Standard Time:20260501T120000
LOCATION:2 International Plaza Suite 201 Nashville\, TN 37217
ORGANIZER;CN=Greater Nashville Apartment Association;SENT-BY="mailto:commu
 nications@gnaa.org":
SEQUENCE:0
SUMMARY:GNAA: May Supplier Luncheon
UID:f651ef68-4dd7-462b-9fa9-23a68b46eeb0
END:VEVENT
END:VCALENDAR
